BEGIN:VCALENDAR
VERSION:2.0
PRODID:-//lashfire.eu - ECPv6.15.20//NONSGML v1.0//EN
CALSCALE:GREGORIAN
METHOD:PUBLISH
X-WR-CALNAME:lashfire.eu
X-ORIGINAL-URL:https://lashfire.eu
X-WR-CALDESC:Events for lashfire.eu
REFRESH-INTERVAL;VALUE=DURATION:PT1H
X-Robots-Tag:noindex
X-PUBLISHED-TTL:PT1H
BEGIN:VTIMEZONE
TZID:UTC
BEGIN:STANDARD
TZOFFSETFROM:+0000
TZOFFSETTO:+0000
TZNAME:UTC
DTSTART:20210101T000000
END:STANDARD
END:VTIMEZONE
BEGIN:VEVENT
DTSTART;VALUE=DATE:20220614
DTEND;VALUE=DATE:20220616
DTSTAMP:20260420T022925
CREATED:20220309T095627Z
LAST-MODIFIED:20220309T095627Z
UID:3316-1655164800-1655337599@lashfire.eu
SUMMARY:DSM Donsö Shipping Meet 2022
DESCRIPTION:DSM2022 – Clean Ocean with Future in Sight\, June 14-15\, 2022 \nEvery other year\, delegates from all over the world gather on the island of Donsö\, a small island in the archipelago outside Gothenburg\, Sweden\, eager to discuss shipping and shipping-related topics. A meeting place for the maritime cluster\, Donsö Shipping Meet is a lively\, friendly event that provides a range of opportunities for making new connections. DSM is a trade fair. Make your registration before arrival. Welcome!
URL:https://lashfire.eu/event/dsm-donso-shipping-meet-2022/
LOCATION:Donsö\, Gothernburg\, Sweden
END:VEVENT
BEGIN:VEVENT
DTSTART;TZID=UTC:20220606T080000
DTEND;TZID=UTC:20220609T170000
DTSTAMP:20260420T022925
CREATED:20220505T090952Z
LAST-MODIFIED:20220505T090952Z
UID:3506-1654502400-1654794000@lashfire.eu
SUMMARY:MDM 2022 The 23rd IEEE International Conference on Mobile Data Management
DESCRIPTION:The MDM series of conferences\, since its debut in 1999\, has established itself as a prestigious forum for the exchange of innovative and significant research results in mobile data management. The conference provides unique opportunities to bring researchers\, engineers\, and practitioners together to explore new ideas\, techniques\, and tools\, and exchange experiences. \nComprising both research and industry tracks\, it serves as an important bridge between academic researchers and industry researchers. Along with the presentations of research publications\, it also serves as a meeting place for technical demonstrations (demos)\, advanced seminars\, panel discussions as well as PhD forum and Industrial forum to cater PhD students and industrial developers. \nThe conference focuses on research contributions in data management in mobile\, ubiquitous and pervasive computing.
URL:https://lashfire.eu/event/mdm-2022-the-23rd-ieee-international-conference-on-mobile-data-management/
LOCATION:Paphos\, Greece
END:VEVENT
BEGIN:VEVENT
DTSTART;TZID=UTC:20220606T080000
DTEND;TZID=UTC:20220609T170000
DTSTAMP:20260420T022925
CREATED:20220408T071800Z
LAST-MODIFIED:20220408T071800Z
UID:3436-1654502400-1654794000@lashfire.eu
SUMMARY:2022 NFPA Conference & Expo®
DESCRIPTION:
URL:https://lashfire.eu/event/2022-nfpa-conference-expo/
LOCATION:Boston Convention and Exhibition Center\, Boston\, United States
END:VEVENT
BEGIN:VEVENT
DTSTART;VALUE=DATE:20220606
DTEND;VALUE=DATE:20220607
DTSTAMP:20260420T022925
CREATED:20220505T090040Z
LAST-MODIFIED:20220505T090250Z
UID:3501-1654473600-1654559999@lashfire.eu
SUMMARY:The 3rd IEEE Intl. Maritime Big Data Workshop (MBDW 2022)
DESCRIPTION:The growth of the maritime sector has produced an increase of the global maritime traffic and of the activities exploiting the ocean environment and its resources. Safety and security of maritime navigation remain a concern\, like the global societal objective of reducing the environmental impact of maritime activities to pursue a sustainable and inclusive “blue growth”. Technological innovations led to the development of automated monitoring systems and maritime sensors networks\, producing a tremendous increase of the maritime data available and opening new avenues to interdisciplinary science-driven maritime operations and policy making. Institutional and industrial initiatives are developing infrastructures for maritime data sharing and offering advanced processing\, fusion\, and analysis\, developing added values products in support of the maritime operational and industrial communities\, policy making and informed citizenship.The Maritime Big Data Workshop 2022 is organized under the umbrella of the 23rd IEEE International Conference on Mobile Data Management (MDM 2022). It will be an opportunity for researchers\, technology providers\, institutions participating in interdisciplinary big data initiatives\, and representatives of the operational community\, to meet and exchange on research results and innovations in the maritime context. The workshop will welcome the presentation of novel big data computational solutions with application in the maritime context.
URL:https://lashfire.eu/event/the-3rd-ieee-intl-maritime-big-data-workshop-mbdw-2022/
LOCATION:Paphos\, Greece
END:VEVENT
BEGIN:VEVENT
DTSTART;VALUE=DATE:20220531
DTEND;VALUE=DATE:20220602
DTSTAMP:20260420T022925
CREATED:20220309T095427Z
LAST-MODIFIED:20220309T095427Z
UID:3313-1653955200-1654127999@lashfire.eu
SUMMARY:Fire Sprinkler International
DESCRIPTION:After 2 years of travel restrictions\, commercial restraints and limited opportunities to network and interact personally the international sprinkler industry can descend on London and celebrate new horizons post COVID crises\, forging new professional relationships\, renewing old contacts and creating new business opportunities to increase growth and future resilience. \nFire Sprinkler International events are unique in Europe with more than 300 fire protection professionals and experts from all over the world attending. The outstanding 2-day conference programme addresses the latest developments in regulatory requirements\, standards and technology for water-based fire protection systems as well as specific applications including transport\, heritage\, storage\, alternative power and high rise. 
URL:https://lashfire.eu/event/fire-sprinkler-international/
LOCATION:The Park Plaza Riverbank\, London
END:VEVENT
BEGIN:VEVENT
DTSTART;VALUE=DATE:20220531
DTEND;VALUE=DATE:20220602
DTSTAMP:20260420T022925
CREATED:20220309T095055Z
LAST-MODIFIED:20220309T095055Z
UID:3310-1653955200-1654127999@lashfire.eu
SUMMARY:DMT brandschutzfachtagung
DESCRIPTION:
URL:https://lashfire.eu/event/dmt-brandschutzfachtagung/
LOCATION:ATLANTIC Hotel Sail City\, Bremerhaven
END:VEVENT
BEGIN:VEVENT
DTSTART;VALUE=DATE:20220524
DTEND;VALUE=DATE:20220527
DTSTAMP:20260420T022925
CREATED:20220309T094253Z
LAST-MODIFIED:20220309T094253Z
UID:3308-1653350400-1653609599@lashfire.eu
SUMMARY:6th International Conference on Maritime Technology and Engineering (Martech 2022)
DESCRIPTION:International Conference on Maritime Technology and Engineering \nThe National Conferences in Naval Architecture and Marine Engineering began in 1987 with the joint organization of Instituto Superior Técnico and the Naval Architecture and Marine Engineering Section of the Portuguese Association of Engineers (Colégio de Engenharia Naval da Ordem dos Engenheiros). The 11 editions of the event were initially organized annually\, becoming later a bi-annual event including one edition in 1997 organized together with the Association of Naval Architects of Spain. \nThe previous Conference had to be postponed 6 months and was held mostly remotely due to the COVID-19 pandemic. Based on this experience\, and accounting for the possibility that some participants may not be able to be present\, the MARTECH 2022 Conference will allow for remote participation\, although it is expected to be held mostly in presence. \nThe Conference will continue to have a broad scope\, covering all aspects of maritime activity including:\n• Ship Design (structures\, hydrodynamics\, machinery)\n• Ship Building and Repair\n• Maritime Transportation and Ports\n• Fishing and Aquaculture\n• Energy Resources\n• Military and Surveillance Vessels\n• Recreational Craft and Maritime Tourism \nThe official language of the event is English. At the same time\, and at the same location\, the traditional national Conference will be held in Portuguese in parallel sessions.
URL:https://lashfire.eu/event/6th-international-conference-on-maritime-technology-and-engineering-martech-2022/
END:VEVENT
BEGIN:VEVENT
DTSTART;VALUE=DATE:20220504
DTEND;VALUE=DATE:20220507
DTSTAMP:20260420T022925
CREATED:20220309T093601Z
LAST-MODIFIED:20220309T093601Z
UID:3305-1651622400-1651881599@lashfire.eu
SUMMARY:Shippax Ferry Conference 2022
DESCRIPTION:Shippax Ferry Conference\nThe two-day onboard ferry conference was first organized in 2003 and grows ever more popular each year. Typically sold out two to three months ahead\, it attracts between 450-500 delegates from 50-60 ferry companies from all over the world each year. Professional speakers and experts\, captivating debates and best possible networking and exhibitions is what we offer\, together with a value-for-money policy with all events\, meals\, cabins and networking included in the price.
URL:https://lashfire.eu/event/shippax-ferry-conference-2022/
LOCATION:SILJA SYMPHONY\, Stockholm\, Sweden
END:VEVENT
BEGIN:VEVENT
DTSTART;TZID=UTC:20220404T170000
DTEND;TZID=UTC:20220404T200000
DTSTAMP:20260420T022925
CREATED:20220309T083538Z
LAST-MODIFIED:20220309T083538Z
UID:3296-1649091600-1649102400@lashfire.eu
SUMMARY:Electric Vehicle Fire Safety at Sea - ELBAS\, LASH FIRE - ONLINE
DESCRIPTION:Would an EV fire on a ferry be more dangerous than a traditional car?
URL:https://lashfire.eu/event/electric-vehicle-fire-safety-at-sea-elbas-lash-fire-online/
LOCATION:Online
END:VEVENT
BEGIN:VEVENT
DTSTART;VALUE=DATE:20220404
DTEND;VALUE=DATE:20220408
DTSTAMP:20260420T022925
CREATED:20220309T093040Z
LAST-MODIFIED:20220309T093053Z
UID:3300-1649030400-1649375999@lashfire.eu
SUMMARY:Nor-shipping 2022
DESCRIPTION:Nor-Shipping brings the industry together. Learn more about new ocean solutions\, and meet the companies that are taking positive #ACTION\, from 4-7 April 2022 in Oslo.
URL:https://lashfire.eu/event/nor-shipping/
LOCATION:Nova spektrum\, Lillestrøm\, Norway
END:VEVENT
END:VCALENDAR