BEGIN:VCALENDAR
VERSION:2.0
PRODID:-//lashfire.eu - ECPv6.15.20//NONSGML v1.0//EN
CALSCALE:GREGORIAN
METHOD:PUBLISH
X-WR-CALNAME:lashfire.eu
X-ORIGINAL-URL:https://lashfire.eu
X-WR-CALDESC:Events for lashfire.eu
REFRESH-INTERVAL;VALUE=DURATION:PT1H
X-Robots-Tag:noindex
X-PUBLISHED-TTL:PT1H
BEGIN:VTIMEZONE
TZID:UTC
BEGIN:STANDARD
TZOFFSETFROM:+0000
TZOFFSETTO:+0000
TZNAME:UTC
DTSTART:20210101T000000
END:STANDARD
END:VTIMEZONE
BEGIN:VEVENT
DTSTART;VALUE=DATE:20220504
DTEND;VALUE=DATE:20220507
DTSTAMP:20260419T213620
CREATED:20220309T093601Z
LAST-MODIFIED:20220309T093601Z
UID:3305-1651622400-1651881599@lashfire.eu
SUMMARY:Shippax Ferry Conference 2022
DESCRIPTION:Shippax Ferry Conference\nThe two-day onboard ferry conference was first organized in 2003 and grows ever more popular each year. Typically sold out two to three months ahead\, it attracts between 450-500 delegates from 50-60 ferry companies from all over the world each year. Professional speakers and experts\, captivating debates and best possible networking and exhibitions is what we offer\, together with a value-for-money policy with all events\, meals\, cabins and networking included in the price.
URL:https://lashfire.eu/event/shippax-ferry-conference-2022/
LOCATION:SILJA SYMPHONY\, Stockholm\, Sweden
END:VEVENT
BEGIN:VEVENT
DTSTART;TZID=UTC:20220404T170000
DTEND;TZID=UTC:20220404T200000
DTSTAMP:20260419T213620
CREATED:20220309T083538Z
LAST-MODIFIED:20220309T083538Z
UID:3296-1649091600-1649102400@lashfire.eu
SUMMARY:Electric Vehicle Fire Safety at Sea - ELBAS\, LASH FIRE - ONLINE
DESCRIPTION:Would an EV fire on a ferry be more dangerous than a traditional car?
URL:https://lashfire.eu/event/electric-vehicle-fire-safety-at-sea-elbas-lash-fire-online/
LOCATION:Online
END:VEVENT
BEGIN:VEVENT
DTSTART;VALUE=DATE:20220404
DTEND;VALUE=DATE:20220408
DTSTAMP:20260419T213620
CREATED:20220309T093040Z
LAST-MODIFIED:20220309T093053Z
UID:3300-1649030400-1649375999@lashfire.eu
SUMMARY:Nor-shipping 2022
DESCRIPTION:Nor-Shipping brings the industry together. Learn more about new ocean solutions\, and meet the companies that are taking positive #ACTION\, from 4-7 April 2022 in Oslo.
URL:https://lashfire.eu/event/nor-shipping/
LOCATION:Nova spektrum\, Lillestrøm\, Norway
END:VEVENT
END:VCALENDAR