BEGIN:VCALENDAR
VERSION:2.0
PRODID:-//lashfire.eu - ECPv6.15.20//NONSGML v1.0//EN
CALSCALE:GREGORIAN
METHOD:PUBLISH
X-ORIGINAL-URL:https://lashfire.eu
X-WR-CALDESC:Events for lashfire.eu
REFRESH-INTERVAL;VALUE=DURATION:PT1H
X-Robots-Tag:noindex
X-PUBLISHED-TTL:PT1H
BEGIN:VTIMEZONE
TZID:UTC
BEGIN:STANDARD
TZOFFSETFROM:+0000
TZOFFSETTO:+0000
TZNAME:UTC
DTSTART:20210101T000000
END:STANDARD
END:VTIMEZONE
BEGIN:VEVENT
DTSTART;VALUE=DATE:20221011
DTEND;VALUE=DATE:20221012
DTSTAMP:20260423T120256
CREATED:20220311T145428Z
LAST-MODIFIED:20220901T073618Z
UID:3395-1665446400-1665532799@lashfire.eu
SUMMARY:LASH FIRE CFIS 2022 - Public Conference on Fire  Safety at Sea
DESCRIPTION:Welcome\nWe are pleased to inform you that on October 11th at EMSA facilities (Lisbon)\, will take place the CFIS 2022 (Conference on Fire Safety at Sea)\, the second conference of the project LASH FIRE – Legislative Assessment for Safety Hazards of Fire and Innovations in Ro-ro Ships Environment (Grant Agreement nº 814975). \nCFIS 2022 will continue the outreach work done at CFIS 2021 (Take a look at the summaries from the last conference here). On this occasion the conference will focus on Alternative Fuelled Vehicles (AFV) fire in maritime. \nLASH FIRE project\nRo-ro ships are an important component of the global transportation system\, but an increasing trend of ro-ro ship fires in recent years call for improved fire protection. From comprehensive ship operators’ experience and by participation in ongoing work for the European Maritime Safety Agency and the International Maritime Organization (IMO)\, critical aspects of ro-ro ship fire safety have been identified to form the scope of the project LASH FIRE. It aims to provide a recognized technical basis for the revision of international IMO regulations\, which greatly enhances fire prevention and ensures management of fires on ro-ro ships without recourse to external intervention. This is done by developing and demonstrating operational and design solutions which strengthen the fire protection of ro-ro ships in all stages of a fire and which address current and future challenges\, including regulatory issues. Twenty specific challenges have been identified\, which will be addressed by new solutions developed and demonstrated with regards to performance and ship integration feasibility by system suppliers\, researchers\, ship owners and shipyards. For the solutions to be considered for regulatory uptake\, their impact on risk reduction and cost will be assessed and advisory groups with operators and flag states will be established. Thereby\, the project is expected to significantly strengthen the independent fire protection of ro-ro ships and to reduce the frequency of ro-ro ship fires by 35% and the number of fatalities by 45%.
URL:https://lashfire.eu/event/lash-fire-cfis-2022-public-conference-on-fire-safety-at-sea/
LOCATION:EUROPEAN MARITIME SAFETY AGENCY (EMSA)\, Praça Europa 4\, Lisbon\, Portugal
END:VEVENT
END:VCALENDAR