BEGIN:VCALENDAR
VERSION:2.0
PRODID:-//lashfire.eu - ECPv6.15.20//NONSGML v1.0//EN
CALSCALE:GREGORIAN
METHOD:PUBLISH
X-ORIGINAL-URL:https://lashfire.eu
X-WR-CALDESC:Events for lashfire.eu
REFRESH-INTERVAL;VALUE=DURATION:PT1H
X-Robots-Tag:noindex
X-PUBLISHED-TTL:PT1H
BEGIN:VTIMEZONE
TZID:UTC
BEGIN:STANDARD
TZOFFSETFROM:+0000
TZOFFSETTO:+0000
TZNAME:UTC
DTSTART:20210101T000000
END:STANDARD
END:VTIMEZONE
BEGIN:VEVENT
DTSTART;VALUE=DATE:20220621
DTEND;VALUE=DATE:20220623
DTSTAMP:20260419T170001
CREATED:20220309T095956Z
LAST-MODIFIED:20220309T095956Z
UID:3319-1655769600-1655942399@lashfire.eu
SUMMARY:Nordic Fire & Safety Days (NFSD)
DESCRIPTION:June 21-22\, 2022 in Lund\, Sweden \nThe Nordic Fire & Safety Days is a biannually conference carried out by the Nordic universities and research institutes dealing with risk and fire safety. \n\n\nAt The Nordic Fire & Safety Days you will have the opportunity to get information on different aspects within fire research. The days will  focus on risk and fire research in the Nordic countries. Contributions from other countries are more than welcome. Both abstracts on research and development\, and innovative solutions\, processes and methods in construction projects are welcome to be submitted. The conference language is English. \nThe topics are\, but are not limited to: \n\nFire dynamics\nFire chemistry\nFire detection and supression\nForensics\nStructural fire safety\nOffshore fires\nTransportation\nManagement of rescue service\nOperation of rescue service\nMulti hazard control\nSafety management\nHealth and environmental risks\nSocietal activities and resilience\nRisk and innovations\nSafety of fossil free energy carriers\nResidential fires\nDecision-making\nEvacuation\nCrowd management\nHuman behavior
URL:https://lashfire.eu/event/nordic-fire-safety-days-nfsd/
LOCATION:Lund\, Lund\, Sweden
END:VEVENT
END:VCALENDAR