BEGIN:VCALENDAR
VERSION:2.0
PRODID:-//lashfire.eu - ECPv6.15.20//NONSGML v1.0//EN
CALSCALE:GREGORIAN
METHOD:PUBLISH
X-WR-CALNAME:lashfire.eu
X-ORIGINAL-URL:https://lashfire.eu
X-WR-CALDESC:Events for lashfire.eu
REFRESH-INTERVAL;VALUE=DURATION:PT1H
X-Robots-Tag:noindex
X-PUBLISHED-TTL:PT1H
BEGIN:VTIMEZONE
TZID:UTC
BEGIN:STANDARD
TZOFFSETFROM:+0000
TZOFFSETTO:+0000
TZNAME:UTC
DTSTART:20210101T000000
END:STANDARD
END:VTIMEZONE
BEGIN:VEVENT
DTSTART;VALUE=DATE:20220404
DTEND;VALUE=DATE:20220408
DTSTAMP:20260419T195333
CREATED:20220309T093040Z
LAST-MODIFIED:20220309T093053Z
UID:3300-1649030400-1649375999@lashfire.eu
SUMMARY:Nor-shipping 2022
DESCRIPTION:Nor-Shipping brings the industry together. Learn more about new ocean solutions\, and meet the companies that are taking positive #ACTION\, from 4-7 April 2022 in Oslo.
URL:https://lashfire.eu/event/nor-shipping/
LOCATION:Nova spektrum\, Lillestrøm\, Norway
END:VEVENT
END:VCALENDAR